{
 "currentVersion": 10.91,
 "serviceDescription": "Lidar Data Products for the Frederick, MD collection area including a 6ft Digital Elevation Model (DEM), and tiled 2ft Contours.",
 "name": "Hillshade/HILLSHADE_2020",
 "description": "Lidar Data Products for the Frederick, MD collection area including a 6ft Digital Elevation Model (DEM), and tiled 2ft Contours.",
 "extent": {
  "xmin": 1117278,
  "ymin": 560010,
  "xmax": 1284918,
  "ymax": 751410,
  "spatialReference": {
   "wkid": 103069,
   "latestWkid": 6488,
   "vcsWkid": 105703,
   "latestVcsWkid": 6360
  }
 },
 "initialExtent": {
  "xmin": 1117278,
  "ymin": 560010,
  "xmax": 1284918,
  "ymax": 751410,
  "spatialReference": {
   "wkid": 103069,
   "latestWkid": 6488,
   "vcsWkid": 105703,
   "latestVcsWkid": 6360
  }
 },
 "fullExtent": {
  "xmin": 1117278,
  "ymin": 560010,
  "xmax": 1284918,
  "ymax": 751410,
  "spatialReference": {
   "wkid": 103069,
   "latestWkid": 6488,
   "vcsWkid": 105703,
   "latestVcsWkid": 6360
  }
 },
 "heightModelInfo": {
  "heightModel": "gravity_related_height",
  "vertCRS": "NAVD88_height_(ftUS)",
  "heightUnit": "us-foot"
 },
 "hasMultidimensions": false,
 "pixelSizeX": 6,
 "pixelSizeY": 6,
 "datasetFormat": "SDR",
 "uncompressedSize": 891286000,
 "blockWidth": 128,
 "blockHeight": 128,
 "compressionType": "LZ77",
 "bandNames": [
  "Band_1"
 ],
 "allowCopy": true,
 "allowAnalysis": true,
 "bandCount": 1,
 "pixelType": "U8",
 "minPixelSize": 0,
 "maxPixelSize": 0,
 "copyrightText": "",
 "serviceDataType": "esriImageServiceDataTypeGeneric",
 "serviceSourceType": "esriImageServiceSourceTypeDataset",
 "minValues": [
  0
 ],
 "maxValues": [
  254
 ],
 "meanValues": [
  176.95488150533765
 ],
 "stdvValues": [
  21.171040540898627
 ],
 "objectIdField": "",
 "fields": [],
 "capabilities": "Image,Metadata,Mensuration",
 "defaultMosaicMethod": "Center",
 "allowedMosaicMethods": "",
 "sortField": "",
 "sortValue": null,
 "sortAscending": true,
 "mosaicOperator": "First",
 "defaultCompressionQuality": 75,
 "defaultResamplingMethod": "Bilinear",
 "maxImageHeight": 4100,
 "maxImageWidth": 15000,
 "allowRasterFunction": true,
 "rasterFunctionInfos": [
  {
   "name": "None",
   "description": "",
   "help": ""
  }
 ],
 "rasterTypeInfos": [
  {
   "name": "Raster Dataset",
   "description": "Supports all ArcGIS Raster Datasets",
   "help": ""
  }
 ],
 "mensurationCapabilities": "Basic",
 "hasHistograms": true,
 "hasColormap": false,
 "hasRasterAttributeTable": true,
 "minScale": 0,
 "maxScale": 0,
 "exportTilesAllowed": false,
 "supportsStatistics": false,
 "supportsAdvancedQueries": false,
 "editFieldsInfo": null,
 "ownershipBasedAccessControlForRasters": null,
 "allowComputeTiePoints": false,
 "useStandardizedQueries": true,
 "advancedQueryCapabilities": {
  "useStandardizedQueries": true,
  "supportsStatistics": false,
  "supportsOrderBy": false,
  "supportsDistinct": false,
  "supportsPagination": false
 },
 "spatialReference": {
  "wkid": 103069,
  "latestWkid": 6488,
  "vcsWkid": 105703,
  "latestVcsWkid": 6360
 }
}
