{
 "currentVersion": 10.91,
 "serviceDescription": "MDTaxMaps/MD_Property_Tax_Maps_2005",
 "name": "MDTaxMaps/MD_Property_Tax_Maps_2005",
 "description": "",
 "extent": {
  "xmin": 1119793.2717699304,
  "ymin": 565719.4074276269,
  "xmax": 1284997.248089243,
  "ymax": 748896.9645039022,
  "spatialReference": {
   "wkid": 102685,
   "latestWkid": 2248
  }
 },
 "initialExtent": {
  "xmin": 1119793.2717699304,
  "ymin": 565719.4074276269,
  "xmax": 1284997.248089243,
  "ymax": 748896.9645039022,
  "spatialReference": {
   "wkid": 102685,
   "latestWkid": 2248
  }
 },
 "fullExtent": {
  "xmin": 1119793.2717699304,
  "ymin": 565719.4074276269,
  "xmax": 1284997.248089243,
  "ymax": 748896.9645039022,
  "spatialReference": {
   "wkid": 102685,
   "latestWkid": 2248
  }
 },
 "hasMultidimensions": false,
 "pixelSizeX": 1.4938148900400805,
 "pixelSizeY": 1.4938148900400847,
 "datasetFormat": "SDR",
 "uncompressedSize": 1695154176,
 "blockWidth": 128,
 "blockHeight": 128,
 "compressionType": "LZ77",
 "bandNames": [
  "Band_1"
 ],
 "allowCopy": true,
 "allowAnalysis": true,
 "bandCount": 1,
 "pixelType": "U1",
 "minPixelSize": 0,
 "maxPixelSize": 0,
 "copyrightText": "",
 "serviceDataType": "esriImageServiceDataTypeGeneric",
 "serviceSourceType": "esriImageServiceSourceTypeDataset",
 "minValues": [
  0
 ],
 "maxValues": [
  0
 ],
 "meanValues": [
  0
 ],
 "stdvValues": [
  0
 ],
 "objectIdField": "",
 "fields": [],
 "capabilities": "Image,Metadata,Mensuration",
 "defaultMosaicMethod": "Center",
 "allowedMosaicMethods": "",
 "sortField": "",
 "sortValue": null,
 "sortAscending": true,
 "mosaicOperator": "First",
 "defaultCompressionQuality": 75,
 "defaultResamplingMethod": "Bilinear",
 "maxImageHeight": 4100,
 "maxImageWidth": 15000,
 "allowRasterFunction": true,
 "rasterFunctionInfos": [
  {
   "name": "None",
   "description": "",
   "help": ""
  }
 ],
 "rasterTypeInfos": [
  {
   "name": "Raster Dataset",
   "description": "Supports all ArcGIS Raster Datasets",
   "help": ""
  }
 ],
 "mensurationCapabilities": "Basic",
 "hasHistograms": true,
 "hasColormap": false,
 "hasRasterAttributeTable": false,
 "minScale": 0,
 "maxScale": 0,
 "exportTilesAllowed": false,
 "supportsStatistics": false,
 "supportsAdvancedQueries": false,
 "editFieldsInfo": null,
 "ownershipBasedAccessControlForRasters": null,
 "allowComputeTiePoints": false,
 "useStandardizedQueries": true,
 "advancedQueryCapabilities": {
  "useStandardizedQueries": true,
  "supportsStatistics": false,
  "supportsOrderBy": false,
  "supportsDistinct": false,
  "supportsPagination": false
 },
 "spatialReference": {
  "wkid": 102685,
  "latestWkid": 2248
 }
}
