{
 "currentVersion": 10.91,
 "serviceDescription": "MDTaxMaps/MD_Property_Tax_Maps_2015",
 "name": "MDTaxMaps/MD_Property_Tax_Maps_2015",
 "description": "",
 "extent": {
  "xmin": 341313.68576119543,
  "ymin": 172378.47589765536,
  "xmax": 394663.8549445172,
  "ymax": 230712.06775255874,
  "spatialReference": {
   "wkid": 26985,
   "latestWkid": 26985
  }
 },
 "initialExtent": {
  "xmin": 341313.68576119543,
  "ymin": 172378.47589765536,
  "xmax": 394663.8549445172,
  "ymax": 230712.06775255874,
  "spatialReference": {
   "wkid": 26985,
   "latestWkid": 26985
  }
 },
 "fullExtent": {
  "xmin": 341313.68576119543,
  "ymin": 172378.47589765536,
  "xmax": 394663.8549445172,
  "ymax": 230712.06775255874,
  "spatialReference": {
   "wkid": 26985,
   "latestWkid": 26985
  }
 },
 "hasMultidimensions": false,
 "pixelSizeX": 0.45531500002834946,
 "pixelSizeY": 0.45531499999924585,
 "datasetFormat": "SDR",
 "uncompressedSize": 15011725124,
 "blockWidth": 128,
 "blockHeight": 128,
 "compressionType": "LZ77",
 "bandNames": [
  "Band_1"
 ],
 "allowCopy": true,
 "allowAnalysis": true,
 "bandCount": 1,
 "pixelType": "U8",
 "minPixelSize": 0,
 "maxPixelSize": 0,
 "copyrightText": "",
 "serviceDataType": "esriImageServiceDataTypeGeneric",
 "serviceSourceType": "esriImageServiceSourceTypeDataset",
 "minValues": [
  0
 ],
 "maxValues": [
  0
 ],
 "meanValues": [
  0
 ],
 "stdvValues": [
  0
 ],
 "objectIdField": "",
 "fields": [],
 "capabilities": "Image,Metadata,Mensuration",
 "defaultMosaicMethod": "Center",
 "allowedMosaicMethods": "",
 "sortField": "",
 "sortValue": null,
 "sortAscending": true,
 "mosaicOperator": "First",
 "defaultCompressionQuality": 75,
 "defaultResamplingMethod": "Bilinear",
 "maxImageHeight": 4100,
 "maxImageWidth": 15000,
 "allowRasterFunction": true,
 "rasterFunctionInfos": [
  {
   "name": "None",
   "description": "",
   "help": ""
  }
 ],
 "rasterTypeInfos": [
  {
   "name": "Raster Dataset",
   "description": "Supports all ArcGIS Raster Datasets",
   "help": ""
  }
 ],
 "mensurationCapabilities": "Basic",
 "hasHistograms": true,
 "hasColormap": false,
 "hasRasterAttributeTable": false,
 "minScale": 0,
 "maxScale": 0,
 "exportTilesAllowed": false,
 "supportsStatistics": false,
 "supportsAdvancedQueries": false,
 "editFieldsInfo": null,
 "ownershipBasedAccessControlForRasters": null,
 "allowComputeTiePoints": false,
 "useStandardizedQueries": true,
 "advancedQueryCapabilities": {
  "useStandardizedQueries": true,
  "supportsStatistics": false,
  "supportsOrderBy": false,
  "supportsDistinct": false,
  "supportsPagination": false
 },
 "spatialReference": {
  "wkid": 26985,
  "latestWkid": 26985
 }
}
