{
 "currentVersion": 10.91,
 "serviceDescription": "Frederick County Base Map with points and areas of interest",
 "mapName": "Layers",
 "description": "",
 "copyrightText": "",
 "supportsDynamicLayers": false,
 "layers": [
  {
   "id": 0,
   "name": "Major Highways",
   "parentLayerId": -1,
   "defaultVisibility": true,
   "subLayerIds": [
    1,
    2
   ],
   "minScale": 0,
   "maxScale": 0,
   "type": "Group Layer"
  },
  {
   "id": 4,
   "name": "Surrounding Counties",
   "parentLayerId": -1,
   "defaultVisibility": true,
   "subLayerIds": [
    5
   ],
   "minScale": 0,
   "maxScale": 0,
   "type": "Group Layer"
  },
  {
   "id": 6,
   "name": "Transportation",
   "parentLayerId": -1,
   "defaultVisibility": true,
   "subLayerIds": [
    7,
    8,
    9,
    10,
    11,
    12
   ],
   "minScale": 0,
   "maxScale": 0,
   "type": "Group Layer"
  },
  {
   "id": 13,
   "name": "Place Names",
   "parentLayerId": -1,
   "defaultVisibility": true,
   "subLayerIds": [
    14,
    15,
    16,
    17
   ],
   "minScale": 0,
   "maxScale": 0,
   "type": "Group Layer"
  },
  {
   "id": 18,
   "name": "Points of Interest",
   "parentLayerId": -1,
   "defaultVisibility": true,
   "subLayerIds": [
    19,
    20,
    21,
    22,
    23,
    24,
    25
   ],
   "minScale": 19200,
   "maxScale": 0,
   "type": "Group Layer"
  },
  {
   "id": 27,
   "name": "Roads",
   "parentLayerId": -1,
   "defaultVisibility": true,
   "subLayerIds": [
    28,
    29,
    30,
    31,
    32,
    33,
    34
   ],
   "minScale": 0,
   "maxScale": 0,
   "type": "Group Layer"
  },
  {
   "id": 35,
   "name": "Streams",
   "parentLayerId": -1,
   "defaultVisibility": true,
   "subLayerIds": [
    36,
    37,
    38
   ],
   "minScale": 0,
   "maxScale": 0,
   "type": "Group Layer"
  },
  {
   "id": 39,
   "name": "Areas of Interest",
   "parentLayerId": -1,
   "defaultVisibility": true,
   "subLayerIds": [
    40,
    47
   ],
   "minScale": 0,
   "maxScale": 0,
   "type": "Group Layer"
  },
  {
   "id": 40,
   "name": "Areas of Interest",
   "parentLayerId": 39,
   "defaultVisibility": true,
   "subLayerIds": [
    41,
    42,
    43,
    44,
    45,
    46
   ],
   "minScale": 153600,
   "maxScale": 9601,
   "type": "Group Layer"
  },
  {
   "id": 47,
   "name": "Areas of Interest",
   "parentLayerId": 39,
   "defaultVisibility": true,
   "subLayerIds": [
    48,
    49,
    50,
    51,
    52,
    53
   ],
   "minScale": 9600,
   "maxScale": 0,
   "type": "Group Layer"
  },
  {
   "id": 55,
   "name": "Parks",
   "parentLayerId": -1,
   "defaultVisibility": true,
   "subLayerIds": [
    56,
    57,
    58,
    59
   ],
   "minScale": 0,
   "maxScale": 0,
   "type": "Group Layer"
  },
  {
   "id": 60,
   "name": "Municipalities",
   "parentLayerId": -1,
   "defaultVisibility": true,
   "subLayerIds": [
    61,
    62,
    63
   ],
   "minScale": 0,
   "maxScale": 0,
   "type": "Group Layer"
  }
 ],
 "tables": [],
 "spatialReference": {
  "wkid": 102685,
  "latestWkid": 2248
 },
 "singleFusedMapCache": true,
 "tileInfo": {
  "rows": 512,
  "cols": 512,
  "dpi": 96,
  "format": "PNG32",
  "compressionQuality": 0,
  "origin": {
   "x": -120561100,
   "y": 148302500
  },
  "spatialReference": {
   "wkid": 102685,
   "latestWkid": 2248
  },
  "lods": [
   {
    "level": 0,
    "resolution": 533.3333333333333,
    "scale": 614400
   },
   {
    "level": 1,
    "resolution": 266.66666666666663,
    "scale": 307200
   },
   {
    "level": 2,
    "resolution": 133.33333333333331,
    "scale": 153600
   },
   {
    "level": 3,
    "resolution": 66.66666666666666,
    "scale": 76800
   },
   {
    "level": 4,
    "resolution": 33.33333333333333,
    "scale": 38400
   },
   {
    "level": 5,
    "resolution": 16.666666666666664,
    "scale": 19200
   },
   {
    "level": 6,
    "resolution": 8.333333333333332,
    "scale": 9600
   },
   {
    "level": 7,
    "resolution": 4.166666666666666,
    "scale": 4800
   },
   {
    "level": 8,
    "resolution": 2.083333333333333,
    "scale": 2400
   },
   {
    "level": 9,
    "resolution": 1.0416666666666665,
    "scale": 1200
   },
   {
    "level": 10,
    "resolution": 0.5208333333333333,
    "scale": 600
   }
  ]
 },
 "initialExtent": {
  "xmin": 1092173.2894504622,
  "ymin": 652520.6158846357,
  "xmax": 1310619.6267811551,
  "ymax": 733814.0297770154,
  "spatialReference": {
   "wkid": 102685,
   "latestWkid": 2248
  }
 },
 "fullExtent": {
  "xmin": 897426.091444,
  "ymin": 388460.00565,
  "xmax": 1502759.424777,
  "ymax": 929793.338983,
  "spatialReference": {
   "wkid": 102685,
   "latestWkid": 2248
  }
 },
 "minScale": 614400,
 "maxScale": 600,
 "units": "esriFeet",
 "supportedImageFormatTypes": "PNG32,PNG24,PNG,JPG,DIB,TIFF,EMF,PS,PDF,GIF,SVG,SVGZ,BMP",
 "documentInfo": {
  "Title": "Base Map of Frederick County",
  "Author": "Frederick County GIS",
  "Comments": "Frederick County Base Map with points and areas of interest",
  "Subject": "Frederick County Base Map with points and areas of interest",
  "Category": "Base map",
  "AntialiasingMode": "None",
  "TextAntialiasingMode": "Force",
  "Keywords": "Frederick County,Maryland,United States. Roads,Parcels,Points of Interest,Areas of Interest,Political Boundaries"
 },
 "capabilities": "Map,Query,Data",
 "supportedQueryFormats": "JSON, geoJSON",
 "exportTilesAllowed": false,
 "referenceScale": 0,
 "datumTransformations": [
  {
   "geoTransforms": [
    {
     "wkid": 108001,
     "latestWkid": 1241,
     "transformForward": true,
     "name": "NAD_1927_To_NAD_1983_NADCON"
    }
   ]
  },
  {
   "geoTransforms": [
    {
     "wkid": 108001,
     "latestWkid": 1241,
     "transformForward": false,
     "name": "NAD_1927_To_NAD_1983_NADCON"
    }
   ]
  }
 ],
 "supportsDatumTransformation": true,
 "maxRecordCount": 1000,
 "maxImageHeight": 4096,
 "maxImageWidth": 4096,
 "supportedExtensions": "KmlServer",
 "serviceItemId": "ade37efd0f344ceaad16304c638797a7"
}
