View In:
ArcGIS JavaScript
ArcGIS Online Map Viewer
ArcGIS Earth
ArcMap
View Footprint In:
ArcGIS Online Map Viewer
Service Description: This ArcInfo ASCII Grid format is an ArcInfo Grid exchange file representing a digital elevation model mosaic of the Ortho_Grid_2005 ortho project image grid files. The grid size for this digital elevation model is 20 feet per raster cell.
Name: DEM/Frederick_DEM_2005
Description: This ArcInfo ASCII Grid format is an ArcInfo Grid exchange file representing a digital elevation model mosaic of the Ortho_Grid_2005 ortho project image grid files. The grid size for this digital elevation model is 20 feet per raster cell.
Single Fused Map Cache: false
Extent:
XMin: 1119990.0
YMin: 563990.0
XMax: 1285010.0
YMax: 750010.0
Spatial Reference: 102685
(2248)
LatestVCSWkid(0)
Initial Extent:
XMin: 1119990.0
YMin: 563990.0
XMax: 1285010.0
YMax: 750010.0
Spatial Reference: 102685
(2248)
LatestVCSWkid(0)
Full Extent:
XMin: 1119990.0
YMin: 563990.0
XMax: 1285010.0
YMax: 750010.0
Spatial Reference: 102685
(2248)
LatestVCSWkid(0)
Pixel Size X: 20.0
Pixel Size Y: 20.0
Band Count: 1
Pixel Type: F32
RasterFunction Infos: {"rasterFunctionInfos": [{
"name": "None",
"description": "",
"help": ""
}]}
Mensuration Capabilities: Basic
Has Histograms: true
Has Colormap: false
Has Multi Dimensions : false
Rendering Rule:
Min Scale: 0
Max Scale: 0
Copyright Text:
Service Data Type: esriImageServiceDataTypeGeneric
Min Values: -9999
Max Values: 2143.649169921875
Mean Values: -2880.279992117399
Standard Deviation Values: 4994.956856012833
Object ID Field:
Fields:
None
Default Mosaic Method: Center
Allowed Mosaic Methods:
SortField:
SortValue: null
Mosaic Operator: First
Default Compression Quality: 75
Default Resampling Method: Bilinear
Max Record Count: null
Max Image Height: 4100
Max Image Width: 15000
Max Download Image Count: null
Max Mosaic Image Count: null
Allow Raster Function: true
Allow Copy: true
Allow Analysis: true
Allow Compute TiePoints: false
Supports Statistics: false
Supports Advanced Queries: false
Use StandardizedQueries: true
Raster Type Infos:
Name: Raster Dataset
Description: Supports all ArcGIS Raster Datasets
Help:
Has Raster Attribute Table: false
Edit Fields Info: null
Ownership Based AccessControl For Rasters: null
Child Resources:
Info
Histograms
Statistics
Key Properties
Legend
Raster Function Infos
Supported Operations:
Export Image
Identify
Measure
Compute Histograms
Compute Statistics Histograms
Get Samples
Compute Class Statistics
Query Boundary
Compute Pixel Location
Compute Angles
Validate
Project