View In:
ArcGIS JavaScript
ArcGIS Online Map Viewer
ArcGIS Earth
ArcMap
View Footprint In:
ArcGIS Online Map Viewer
Service Description: Lidar Data Products for the Frederick, MD collection area including a 6ft Digital Elevation Model (DEM), and tiled 2ft Contours.
Name: DEM/Frederick_DEM_2020_6in
Description: Lidar Data Products for the Frederick, MD collection area including a 6ft Digital Elevation Model (DEM), and tiled 2ft Contours.
Single Fused Map Cache: false
Extent:
XMin: 1117278.0
YMin: 560010.0
XMax: 1284918.0
YMax: 751410.0
Spatial Reference: 103069
(6488)
VCSWkid(105703)
LatestVCSWkid(6360)
Initial Extent:
XMin: 1117278.0
YMin: 560010.0
XMax: 1284918.0
YMax: 751410.0
Spatial Reference: 103069
(6488)
VCSWkid(105703)
LatestVCSWkid(6360)
Full Extent:
XMin: 1117278.0
YMin: 560010.0
XMax: 1284918.0
YMax: 751410.0
Spatial Reference: 103069
(6488)
VCSWkid(105703)
LatestVCSWkid(6360)
Pixel Size X: 6.0
Pixel Size Y: 6.0
Band Count: 1
Pixel Type: F32
RasterFunction Infos: {"rasterFunctionInfos": [{
"name": "None",
"description": "",
"help": ""
}]}
Mensuration Capabilities: Basic
Has Histograms: true
Has Colormap: false
Has Multi Dimensions : false
Rendering Rule:
Min Scale: 0
Max Scale: 0
Copyright Text:
Service Data Type: esriImageServiceDataTypeGeneric
Min Values: -57.459999084472656
Max Values: 2144.6220703125
Mean Values: 614.0984824699528
Standard Deviation Values: 354.6570318104558
Object ID Field:
Fields:
None
Default Mosaic Method: Center
Allowed Mosaic Methods:
SortField:
SortValue: null
Mosaic Operator: First
Default Compression Quality: 75
Default Resampling Method: Bilinear
Max Record Count: null
Max Image Height: 4100
Max Image Width: 15000
Max Download Image Count: null
Max Mosaic Image Count: null
Allow Raster Function: true
Allow Copy: true
Allow Analysis: true
Allow Compute TiePoints: false
Supports Statistics: false
Supports Advanced Queries: false
Use StandardizedQueries: true
Raster Type Infos:
Name: Raster Dataset
Description: Supports all ArcGIS Raster Datasets
Help:
Has Raster Attribute Table: false
Edit Fields Info: null
Ownership Based AccessControl For Rasters: null
Child Resources:
Info
Histograms
Statistics
Key Properties
Legend
Raster Function Infos
Supported Operations:
Export Image
Identify
Measure
Compute Histograms
Compute Statistics Histograms
Get Samples
Compute Class Statistics
Query Boundary
Compute Pixel Location
Compute Angles
Validate
Project