View In:
ArcGIS JavaScript
ArcGIS Online Map Viewer
ArcGIS Earth
ArcMap
View Footprint In:
ArcGIS Online Map Viewer
Service Description: MDTaxMaps/MD_Property_Tax_Maps_1965
Name: MDTaxMaps/MD_Property_Tax_Maps_1965
Description:
Single Fused Map Cache: false
Extent:
XMin: 1112810.2455568197
YMin: 564435.8224152116
XMax: 1295692.577545337
YMax: 757275.2615185749
Spatial Reference: 0
(0)
LatestVCSWkid(0)
Initial Extent:
XMin: 1112810.2455568197
YMin: 564435.8224152116
XMax: 1295692.577545337
YMax: 757275.2615185749
Spatial Reference: 0
(0)
LatestVCSWkid(0)
Full Extent:
XMin: 1112810.2455568197
YMin: 564435.8224152116
XMax: 1295692.577545337
YMax: 757275.2615185749
Spatial Reference: 0
(0)
LatestVCSWkid(0)
Pixel Size X: 4.157456000102689
Pixel Size Y: 4.157455999986274
Band Count: 1
Pixel Type: U1
RasterFunction Infos: {"rasterFunctionInfos": [{
"name": "None",
"description": "",
"help": ""
}]}
Mensuration Capabilities: Basic
Has Histograms: true
Has Colormap: false
Has Multi Dimensions : false
Rendering Rule:
Min Scale: 0
Max Scale: 0
Copyright Text:
Service Data Type: esriImageServiceDataTypeGeneric
Min Values: 0
Max Values: 0
Mean Values: 0
Standard Deviation Values: 0
Object ID Field:
Fields:
None
Default Mosaic Method: Center
Allowed Mosaic Methods:
SortField:
SortValue: null
Mosaic Operator: First
Default Compression Quality: 75
Default Resampling Method: Bilinear
Max Record Count: null
Max Image Height: 4100
Max Image Width: 15000
Max Download Image Count: null
Max Mosaic Image Count: null
Allow Raster Function: true
Allow Copy: true
Allow Analysis: true
Allow Compute TiePoints: false
Supports Statistics: false
Supports Advanced Queries: false
Use StandardizedQueries: true
Raster Type Infos:
Name: Raster Dataset
Description: Supports all ArcGIS Raster Datasets
Help:
Has Raster Attribute Table: false
Edit Fields Info: null
Ownership Based AccessControl For Rasters: null
Child Resources:
Info
Histograms
Statistics
Key Properties
Legend
Raster Function Infos
Supported Operations:
Export Image
Identify
Measure
Compute Histograms
Compute Statistics Histograms
Get Samples
Compute Class Statistics
Query Boundary
Compute Pixel Location
Compute Angles
Validate
Project