View In:
ArcGIS JavaScript
ArcGIS Online Map Viewer
ArcGIS Earth
ArcMap
View Footprint In:
ArcGIS Online Map Viewer
Service Description: MDTaxMaps/MD_Property_Tax_Maps_2008
Name: MDTaxMaps/MD_Property_Tax_Maps_2008
Description:
Single Fused Map Cache: false
Extent:
XMin: 341313.68576157524
YMin: 172431.74775248
XMax: 391667.88224471046
YMax: 228264.29431238744
Spatial Reference: 26985
(26985)
LatestVCSWkid(0)
Initial Extent:
XMin: 341313.68576157524
YMin: 172431.74775248
XMax: 391667.88224471046
YMax: 228264.29431238744
Spatial Reference: 26985
(26985)
LatestVCSWkid(0)
Full Extent:
XMin: 341313.68576157524
YMin: 172431.74775248
XMax: 391667.88224471046
YMax: 228264.29431238744
Spatial Reference: 26985
(26985)
LatestVCSWkid(0)
Pixel Size X: 0.45531500002834946
Pixel Size Y: 0.45531499999924513
Band Count: 1
Pixel Type: U8
RasterFunction Infos: {"rasterFunctionInfos": [{
"name": "None",
"description": "",
"help": ""
}]}
Mensuration Capabilities: Basic
Has Histograms: true
Has Colormap: false
Has Multi Dimensions : false
Rendering Rule:
Min Scale: 0
Max Scale: 0
Copyright Text:
Service Data Type: esriImageServiceDataTypeGeneric
Min Values: 0
Max Values: 0
Mean Values: 0
Standard Deviation Values: 0
Object ID Field:
Fields:
None
Default Mosaic Method: Center
Allowed Mosaic Methods:
SortField:
SortValue: null
Mosaic Operator: First
Default Compression Quality: 75
Default Resampling Method: Bilinear
Max Record Count: null
Max Image Height: 4100
Max Image Width: 15000
Max Download Image Count: null
Max Mosaic Image Count: null
Allow Raster Function: true
Allow Copy: true
Allow Analysis: true
Allow Compute TiePoints: false
Supports Statistics: false
Supports Advanced Queries: false
Use StandardizedQueries: true
Raster Type Infos:
Name: Raster Dataset
Description: Supports all ArcGIS Raster Datasets
Help:
Has Raster Attribute Table: false
Edit Fields Info: null
Ownership Based AccessControl For Rasters: null
Child Resources:
Info
Histograms
Statistics
Key Properties
Legend
Raster Function Infos
Supported Operations:
Export Image
Identify
Measure
Compute Histograms
Compute Statistics Histograms
Get Samples
Compute Class Statistics
Query Boundary
Compute Pixel Location
Compute Angles
Validate
Project