View In:
ArcGIS JavaScript
ArcGIS Online Map Viewer
ArcGIS Earth
ArcMap
View Footprint In:
ArcGIS Online Map Viewer
Service Description: MDTaxMaps/MD_Property_Tax_Maps_2013
Name: MDTaxMaps/MD_Property_Tax_Maps_2013
Description:
Single Fused Map Cache: false
Extent:
XMin: 1119791.9845831397
YMin: 565544.7844511505
XMax: 1294826.4917804853
YMax: 756927.577062097
Spatial Reference: 102685
(2248)
LatestVCSWkid(0)
Initial Extent:
XMin: 1119791.9845831397
YMin: 565544.7844511505
XMax: 1294826.4917804853
YMax: 756927.577062097
Spatial Reference: 102685
(2248)
LatestVCSWkid(0)
Full Extent:
XMin: 1119791.9845831397
YMin: 565544.7844511505
XMax: 1294826.4917804853
YMax: 756927.577062097
Spatial Reference: 102685
(2248)
LatestVCSWkid(0)
Pixel Size X: 1.4938126291666647
Pixel Size Y: 1.4938126291666725
Band Count: 1
Pixel Type: U1
RasterFunction Infos: {"rasterFunctionInfos": [{
"name": "None",
"description": "",
"help": ""
}]}
Mensuration Capabilities: Basic
Has Histograms: true
Has Colormap: false
Has Multi Dimensions : false
Rendering Rule:
Min Scale: 0
Max Scale: 0
Copyright Text:
Service Data Type: esriImageServiceDataTypeGeneric
Min Values: 0
Max Values: 1
Mean Values: 0.9585919703036142
Standard Deviation Values: 0.19923203752639976
Object ID Field:
Fields:
None
Default Mosaic Method: Center
Allowed Mosaic Methods:
SortField:
SortValue: null
Mosaic Operator: First
Default Compression Quality: 75
Default Resampling Method: Bilinear
Max Record Count: null
Max Image Height: 4100
Max Image Width: 15000
Max Download Image Count: null
Max Mosaic Image Count: null
Allow Raster Function: true
Allow Copy: true
Allow Analysis: true
Allow Compute TiePoints: false
Supports Statistics: false
Supports Advanced Queries: false
Use StandardizedQueries: true
Raster Type Infos:
Name: Raster Dataset
Description: Supports all ArcGIS Raster Datasets
Help:
Has Raster Attribute Table: false
Edit Fields Info: null
Ownership Based AccessControl For Rasters: null
Child Resources:
Info
Histograms
Statistics
Key Properties
Legend
Raster Function Infos
Supported Operations:
Export Image
Identify
Measure
Compute Histograms
Compute Statistics Histograms
Get Samples
Compute Class Statistics
Query Boundary
Compute Pixel Location
Compute Angles
Validate
Project